Workbook

Sheet PROGRAMACIÓN
A1: Tipo de Registro | B1: Tipo Identificación: DE/DI/MU/NI | C1: Número de Identificación: Divipola/Nit sin dígito de verificación | D1: Inicio de vigencia: xxxx-01-01 | E1: Cierre de vigencia: xxxx-12-31 | F1: Número de filas del archivo
A2: 1 | B2: NI | C2: 890983738 | D2: 45658 | E2: 46022 | F2: 20
A3: TIPO DE REGISTRO | B3: CONSECUTIVO DE REGISTRO | C3: CODIGO DEL TERRITORIO DE REFERENCIA DE APLICACION DEL PLAN DE ACCION | D3: CODIGO DE LA LINEA DE ACCION POR EJE ESTRATEGICO | E3: CONSECUTIVO DE LA META DE LA LINEA DE ACCION | F3: META DE LA LINEA DE ACCION | G3: CONSECUTIVO DE LA ACTIVIDAD DE LA META | H3: DESCRIPCION DE LA ACTIVIDAD PROGRAMADA | I3: EXPRESION NUMERICA DE LA ACTIVIDAD | J3: CODIGO DE LA POBLACION OBJETIVO | K3: FECHA DE INICIO DE LA ACTIVIDAD | L3: FECHA DE TERMINACION DE LA ACTIVIDAD | M3: RECURSOS PROGRAMADOS PARA LA ACTIVIDAD | N3: Columna1 | O3: Columna2
A4: Todos los registros son tipo 2 | B4: No. Consecutivo, inicia en 1 | C4: Divipola del municipio o distrito donde se aplica este plan de acción En todas las variables comunes (resaltadas en amarillo) la información diligenciada en la programación se traslada automáticamente al archivo de seguimiento. | D4: Elegir de la lista desplegable la línea de acción a programar | E4: MXX, donde XX es el consecutivo de la meta dentro de la línea de acción. Ejemplo: M01 | F4: Texto que describe la meta a la cual se comprometen, dejando espacios en blanco entre palabras, no dejar espacio en blanco al final del texto. No utilizar coma (,) ni punto y coma(;) Mínimo 20 caracteres, máximo 300 caracteres El color naranja desaparece cuando se diligencia el campo de forma correcta: sin utilizar no aplica y con más de 20 caracteres | G4: Axx. Donde xx es el consecutivo de la actividad dentro de la meta. Ejemplo: A01 | H4: Texto que describe la actividad que se va a desarrollar, dejando espacios en blanco entre palabras, no dejar espacio en blanco al final del texto. No utilizar coma (,) ni punto y coma(;). Mínimo 20 caracteres, máximo 300 caracteres. | I4: Número de veces que se va a ejecutar la actividad El color naranja desaparece cuando el valor es mayor a cero (0) | J4: Elegir de la lista desplegable el código de población a la cual se dirige la actividad. | K4: Fecha de inicio de la actividad, con formato: AAAA-MM-DD | L4: Fecha de finalización de la actividad, con formato: AAAA-MM-DD | M4: Número. Recursos económicos asignados para la ejecución de la actividad. Puede ser cero (0) o mayor o igual a 10.000
A5: 2 | B5: 1 | C5: 5674 | D5: E1La | E5: M01 | F5: DESTINAR Y GESTIONAR LOS RECURSOS FINANCIEROS NECESARIOS EN LOS PRESUPUESTOS EN EL NIVEL NACIONAL Y TERRITORIAL ORIENTADOS A FORTALECER LAS ESTRUCTURAS ADMINISTRATIVAS Y EL RECURSO HUMANO DEDICADO AL FOMENTO Y GESTION DE LOS PROCESOS DE PARTICIPACION Y EN EL DESARROLLO DE LA POLITICA DE PARTICIPACION | G5: A01 | H5: EVIDENCIAR CONTRATO DE RECURSO HUMANO ASIGNADO PARA EL FOMENTO LA GESTION Y LOS PROCESOS DE PARTICIPACION SOCIAL EN SALUD | I5: 1 | J5: 26 | K5: 46023 | L5: 46387 | M5: 39000000
A6: 2 | B6: 2 | C6: 5674 | D6: E1Lb | E6: M01 | F6: DEFINIR LOS PROGRAMAS DE FORMACION Y CAPACITACION AL PERSONAL DEL SECTOR SALUD PARA LA GENERACION DE CAPACIDADES PARA EL DERECHO A LA PARTICIPACION SOCIAL ASI COMO HERRAMIENTAS PEDAGOGICAS DIDACTICAS Y TECNOLOGICAS QUE PERMITAN LA INTERVENCION DE LA COMUNIDAD EN EL SECTOR | G6: A01 | H6: REALIZAR VOLANTE INFORMATIVO PARA EL PERSONAL DE LA INSTITICION ACERCA DE LA POLITICA DE PARTICIPACION SOCIAL EN SALUD Y MECANISMOS DE PARTICIPACION DE LA COMUNIDAD EL CUAL SERA COMPARTIDO POR EL CANAL INFORMATIVO INSTITUCIONAL | I6: 1 | J6: 01 | K6: 46204 | L6: 46022 | M6: 0
A7: 2 | B7: 3 | C7: 5674 | D7: E1Le | E7: M01 | F7: REALIZAR GESTIONES INTERINSTITUCIONALES PARA LA FORMACION DE LA COMUNIDAD EN PLANEACION PRESUPUESTACION Y CONTROL SOCIAL EN SALUD | G7: A01 | H7: GESTIONAR CON ADMINISTRACION MUNICIPAL FORMACION EN VEEDURIA CIUDADANA | I7: 1 | J7: 04 | K7: 46186 | L7: 46022 | M7: 0
A8: 2 | B8: 4 | C8: 5674 | D8: E1Lh | E8: M01 | F8: INCORPORAR EL ENFOQUE DIFERENCIAL EN EL DESARROLLO DE LOS ESPACIOS DE PARTICIPACION EN SALUD EN LA DEFINICION E IMPLEMENTACION DE LOS PROGRAMAS DEL SECTOR SALUD | G8: A01 | H8: PROMOVER LA PARTICIPACION EN LOS ESPACIOS DE SALUD A TRAVES DE DIFERENTES GRUPOS URBANOS Y RURALES CONFORMADOS EN LA COMUNIDAD | I8: 2 | J8: 25 | K8: 46082 | L8: 46387 | M8: 0
A9: 2 | B9: 5 | C9: 5674 | D9: E2La | E9: M01 | F9: CREAR UNA ESTRATEGIA PEDAGOGICA PERMANENTE EN SALUD PARA CUALIFICAR A LOS CIUDADANOS EN LOS PROCESOS DE PARTICIPACION EN LOS TEMAS DE INTERES EN SALUD Y EN EL DERECHO A LA SALUD | G9: A01 | H9: SOCIALIZAR EN PAGINA WEB LOS DIFERENTES MECANISMOS DE PARTICIPACION SOCIAL EN SALUD | I9: 1 | J9: 25 | K9: 46082 | L9: 46387 | M9: 0
A10: 2 | B10: 6 | C10: 5674 | D10: E2lb | E10: M01 | F10: ESTABLECER LOS INCENTIVOS QUE PROPICIEN LA PARTICIPACION SOCIAL Y COMUNITARIA | G10: A01 | H10: REALIZAR RECONOCIMINETO A LA PARTICIPACION DE LOS LIDERES EN SALUD | I10: 1 | J10: 04 | K10: 01/11/20256 | L10: 46387 | M10: 300000
A11: 2 | B11: 7 | C11: 5674 | D11: E2Lc | E11: M01 | F11: IMPULSAR Y PROMOCIONAR LAS INICIATIVAS DEL USO Y APROPIACION DE LAS TECNOLOGIAS DE INFORMACION Y LAS COMUNICACIONES EN LAS ORGANIZACIONES SOCIALES EN SALUD | G11: A01 | H11: IMPLEMENTAR ESTRATEGIA EN LA CUAL SE FORME E INFORME SOBRE LAS HERRAMIENTAS ACTUALES DE COMUNICACIÓN CON LA INSTITUCION | I11: 1 | J11: 25 | K11: 46082 | L11: 46387 | M11: 70000
A12: 2 | B12: 8 | C12: 5674 | D12: E2Ld | E12: M01 | F12: FORTALECER LAS ESTRATEGIAS DE INFORMACION Y COMUNICACION INCLUIDO EL ACCESO A MEDIOS BOLETINES PERIODICOS QUE POSIBILITE ESPACIOS A LAS ORGANIZACIONES PARA IMPULSAR Y VISIBILIZAR SUS PROCESOS PARTICIPATIVOS | G12: A01 | H12: SOCIALIZAR LAS EXPERIENCIAS EN LOS ESPACIOS DE PPSS EN PROGRAMAS RADIALES Y REDES SOCIALES INSTITUCIONALES LOS CUALES ABARCAN A LA POBLACION URBANA Y RURAL DEL MUNICIPIO | I12: 2 | J12: 25 | K12: 46082 | L12: 46387 | M12: 150000
A13: 2 | B13: 9 | C13: 5674 | D13: E2Le | E13: M01 | F13: PROMOVER LAS FORMAS DE CONVOCATORIA DE LOS ESPACIOS DE PARTICIPACION QUE RECONOZCA LAS DINAMICAS TERRITORIALES Y COMUNITARIAS DEL SECTOR SALUD | G13: A01 | H13: INVITAR A LOS COMITES DE SALUD DE CADA VEREDA A PARTICIPAR EN LAS REUNIONES DE ALIANZA DE USUARIOS FORTALECIENDO ESTE PROCESO DE PARTICIPACION SOCIAL EN SALUD | I13: 1 | J13: 25 | K13: 46082 | L13: 46387 | M13: 0
A14: 2 | B14: 10 | C14: 5674 | D14: E3La | E14: M01 | F14: DEFINIR E IMPLEMENTAR LAS ESTRATEGIAS DE INCIDENCIA Y FORMACION PARA FORTALECER LA SALUD PUBLICA EN CONCERTACION CON LAS COMUNIDADES | G14: A01 | H14: DESARROLLAR CAPACITACIONES A DIFERENTES GRUPOS COMUNITARIOS CON ENFOQUE EN SALUD | I14: 2 | J14: 25 | K14: 46082 | L14: 46387 | M14: 0
A15: 2 | B15: 11 | C15: 5674 | D15: E3Lb | E15: M01 | F15: DISENAR UNA ESTRATEGIA DE COMUNICACION E INFORMACION PARA LA PROMOCION Y SOCIALIZACION DE UNA CULTURA DE BIENESTAR Y SALUD CON PERSPECTIVA COMUNITARIA | G15: A01 | H15: DIVULGAR EN LA PAGINA WEB Y REDES SOCIALES TEMAS DE CUIDADO Y AUTOCUIDADO DE LA SALUD | I15: 2 | J15: 25 | K15: 46082 | L15: 46387 | M15: 120000
A16: 2 | B16: 12 | C16: 5674 | D16: E3Lc | E16: M01 | F16: PROMOVER UN PROGRAMA DE FORMACION DE FORMADORES COMUNITARIOS EN SALUD PUBLICA CON ENFOQUE DE DERECHOS PARA IMPLEMENTAR LA PPSS | G16: A01 | H16: FORMAR A LIDERES COMUNITARIOS EN SALUD EN TEMAS DE PARTICIPACIÓN SOCIAL EN SALUD | I16: 1 | J16: 04 | K16: 46082 | L16: 46387 | M16: 0
A17: 2 | B17: 13 | C17: 5674 | D17: E3Ld | E17: M01 | F17: CONFORMAR Y O CONSOLIDAR MECANISMOS DE ESPACIOS PARA QUE LA COMUNIDAD PARTICIPE Y SE APROPIE DE LOS PROGRAMAS DE PROMOCION Y PREVENCION | G17: A01 | H17: MANTENER ACTIVOS LOS ESPACIOS DE PARTICIPACION SOCIAL EN SALUD COMO ALIANZA DE USUARIOS COMITÉ DE ETICA EN LOS CUALES TIENE PARTICIPACION LA COMUNIDAD | I17: 2 | J17: 25 | K17: 46082 | L17: 46387 | M17: 0
A18: 2 | B18: 14 | C18: 5674 | D18: E4La | E18: M01 | F18: IMPULSAR PROCESOS DE CAPACITACION Y FORMACION PARA EL DESARROLLO DE CAPACIDADES CIUDADANAS QUE POSIBILITE EJERCER EL CONTROL EN SALUD (EN LOS ESPACIOS DE CONTROL SOCIAL EN SALUD) EN RELACION CON LA GESTION PUBLICA | G18: A01 | H18: REALIZAR FORMACION A LOS PARTICIPANTES DE ALIANZA DE USUARIOS EN VEEDURIA CUIDADANA | I18: 1 | J18: 04 | K18: 46082 | L18: 46387 | M18: 0
A19: 2 | B19: 15 | C19: 5674 | D19: E4Lb | E19: M01 | F19: MEJORAR EL ACCESO A LA INFORMACION POR PARTE DE LA CIUDADANIA A TRAVES DE LA APLICACION DE CANALES DE COMUNICACION POR PARTE DE LAS INSTITUCIONES | G19: A01 | H19: MEJORAR LOS CANALES DE COMUNICACION INSTITUCIONAL CON LA COMUNIDAD Y FORTLAECER LA PAGINA WEB | I19: 2 | J19: 25 | K19: 45717 | L19: 46387 | M19: 0
A20: 2 | B20: 16 | C20: 5674 | D20: E4Lc | E20: M01 | F20: POSICIONAR EL CONTROL SOCIAL COMO ELEMENTO BASICO ESENCIAL DE LA DEMOCRACIA Y LA TRANSPARENCIA EN SALUD LO CUAL INCLUYE EL RECONOCIMIENTO A VEEDORES Y A SUS REDES | G20: A01 | H20: PROMOVER Y MANTENER LA PARTICIPACION ACTIVA EN LOS DIFERENTES ESPACIOS DE PPSS COMO COPACO ALIANZA DE USUARIOS COMITÉ DE ETICA JUNTA DIRECTIVA LOS CUALES SON ESPACIOS PARA VELAR POR LOS DERECHOS Y DEBERES DE LOS USUARIOS | I20: 1 | J20: 26 | K20: 46082 | L20: 46387 | M20: 0
B21: 17 | C21: 5674 | D21: E4Ld | E21: M01 | F21: IMPLEMENTAR LOS MECANISMOS QUE PERMITAN FORTALECER LA PARTICIPACION CIUDADANA EN EL ANALISIS DE INFORMACION PARA QUE ESTA CONTRIBUYA A QUE LAS AUTORIDADES HAGAN UN MANEJO TRANSPARENTE DE LOS ASUNTOS Y RECURSOS PUBLICOS | G21: A01 | H21: SOLICIATAR A LAS DIRECTIVAS INSTITUCIONALES INFORME DE GESTION ANUAL | I21: 1 | J21: 04 | K21: 46082 | L21: 46387 | M21: 0
A22: 2 | B22: 18 | C22: 5674 | D22: E4Le | E22: M01 | F22: DEFINIR E IMPLEMENTAR UNA ESTRATEGIA DE FORMACION DIRIGIDA A LOS FUNCIONARIOS Y A LA CIUDADANIA PARA EL FORTALECIMIENTO Y PROMOCION DEL CONTROL SOCIAL EN LAS INSTITUCIONES DEL SECTOR SALUD | G22: A01 | H22: REALIZAR UN VIDEO PLEGABLE U VOLANTE EN EL CUAL SE LE EXPLIQUE A LOS FUNCIONARIOS Y COMUNIDAD LA IMPORTANCIA DE REALIZAR CONTROL SOCIAL Y TENER UNA PARTICIPACION ACTIVA EN LOS ESPACIOS DEL SECTOR SALUD | I22: 1 | J22: 04 | K22: 46082 | L22: 46387 | M22: 70000
A23: 2 | B23: 19 | C23: 5674 | D23: E5Lb | E23: M01 | F23: IMPLEMENTAR LOS DISPOSITIVOS QUE PERMITAN A LA CIUDADANIA PARTICIPAR EN LA GESTION DEL SECTOR SALUD EN LOS NIVELES TERRITORIALES E INSTITUCIONALES | G23: A01 | H23: CONFORMAR GRUPOS DE TRABAJO EN LA ALIANZA DE USUARIOS EN LOS CUALES SE FORMEN EN TEMAS ESPECIFICOS DE PARTICIPACION SOCIAL EN SALUD | I23: 1 | J23: 04 | K23: 46082 | L23: 46387 | M23: 0
A24: 2 | B24: 20 | C24: 5674 | D24: E5Ld | E24: M01 | F24: FORTALECER LOS ESCENARIOS PARA LA PARTICIPACION EN LA DECISION | G24: A01 | H24: ACTO ADMINISTRATIVO SOBRE ADOPCION DE LA PPSS | I24: 1 | J24: 26 | K24: 46082 | L24: 46387 | M24: 0

Sheet SEGUIMIENTO
A1: Tipo de Registro | B1: Tipo Identificación: DE/DI/MU/NI | C1: Número de Identificación: Divipola/Nit sin dígito de verificación | D1: Inicio de vigencia: xxxx-01-01 | E1: Cierre de vigencia: xxxx-12-31 | F1: Número de filas del archivo
A2: =IF(PROGRAMACIÓN!A2=0,"",PROGRAMACIÓN!A2) -> 1 | B2: =IF(PROGRAMACIÓN!B2=0,"",PROGRAMACIÓN!B2) -> NI | C2: =IF(PROGRAMACIÓN!C2=0,"",PROGRAMACIÓN!C2) -> 890983738 | D2: =IF(PROGRAMACIÓN!D2=0,"",PROGRAMACIÓN!D2) -> 45658 | E2: =IF(PROGRAMACIÓN!E2=0,"",PROGRAMACIÓN!E2) -> 46022 | F2: =IF(PROGRAMACIÓN!F2=0,"",PROGRAMACIÓN!F2) -> 20
A3: TIPO DE REGISTRO | B3: CONSECUTIVO DE REGISTRO | C3: CODIGO DEL TERRITORIO DE REFERENCIA DE APLICACION DEL PLAN DE ACCION | D3: CODIGO DE LA LINEA DE ACCION POR EJE ESTRATEGICO | E3: CONSECUTIVO DE LA META DE LA LINEA DE ACCION | F3: CONSECUTIVO DE LA ACTIVIDAD DE LA META | G3: RESULTADO DE LA ACTIVIDAD | H3: CODIGO DE LA POBLACION OBJETIVO INTERVENIDA | I3: TOTAL POBLACION OBJETIVO INTERVENIDA | J3: RECURSOS EJECUTADOS A LA FECHA DE CORTE | K3: CODIGO DE LA FUENTE DE LOS RECURSOS | L3: LINK DIRECCION ELECTRONICA CON EVIDENCIAS DE LA EJECUCION | M3: DESCRIPCION DEL MEDIO DE VERIFICACION
A4: Todos los registros son tipo 2 | B4: No. Consecutivo, inicia en 1 | C4: Divipola del municipio o distrito donde se aplica este plan de acción. En todas las variables comunes (resaltadas en amarillo) la información diligenciada en la programación se traslada automáticamente al archivo de seguimiento. | D4: Elegir de la lista desplegable la línea de acción programada | E4: MXX, donde XX es el consecutivo de la meta dentro de la línea de acción. Ejemplo: M01 | F4: Axx. Donde xx es el consecutivo de la actividad dentro de la meta. Ejemplo: A01 | G4: Número de veces que se ejecutó la actividad programada | H4: El código de la población objetivo debe ser el mismo que se designó en la programación. | I4: Número de personas que fueron impactadas con la actividad SI EL CÓDIGO DE POBLACIÓN ES 26, EL TOTAL DE LA POBLACIÓN INTERVENIDA SIEMPRE ES CERO | J4: Recursos económicos ejecutados de acuerdo a lo programado. | K4: Elegir de la lista desplegable el código del origen del recurso económico invertido | L4: Dirección electrónica de la página web de a entidad donde se aloja la evidencia. SÓLO SE PERMITE UN LINK POR CASILLA | M4: Inidcar cuál es la evidencia de la ejecución de la actividad que se cargó en el link El color naranja desaparece cuando no se escriben comas ni puntos y comas y no se deja espacio al final
A5: =IF(ISBLANK(PROGRAMACION[[#This Row],[TIPO DE REGISTRO ]])," ",PROGRAMACION[[#This Row],[TIPO DE REGISTRO ]]) -> 2 | B5: =IF(ISBLANK(PROGRAMACION[[#This Row],[CONSECUTIVO DE REGISTRO]])," ",PROGRAMACION[[#This Row],[CONSECUTIVO DE REGISTRO]]) -> 1 | C5: =IF(ISBLANK(PROGRAMACION[[#This Row],[CODIGO DEL TERRITORIO DE REFERENCIA DE APLICACION DEL PLAN DE ACCION]])," ",PROGRAMACION[[#This Row],[CODIGO DEL TERRITORIO DE REFERENCIA DE APLICACION DEL PLAN DE ACCION]]) -> 5674 | D5: =IF(ISBLANK(PROGRAMACION[[#This Row],[CODIGO DE LA LINEA DE ACCION POR EJE ESTRATEGICO]])," ",PROGRAMACION[[#This Row],[CODIGO DE LA LINEA DE ACCION POR EJE ESTRATEGICO]]) -> E1La | E5: =IF(ISBLANK(PROGRAMACION[[#This Row],[CONSECUTIVO DE LA META DE LA LINEA DE ACCION]])," ",PROGRAMACION[[#This Row],[CONSECUTIVO DE LA META DE LA LINEA DE ACCION]]) -> M01 | F5: =IF(ISBLANK(PROGRAMACION[[#This Row],[CONSECUTIVO DE LA ACTIVIDAD DE LA META]])," ",PROGRAMACION[[#This Row],[CONSECUTIVO DE LA ACTIVIDAD DE LA META]]) -> A01 | K5: 01
A6: =IF(ISBLANK(PROGRAMACION[[#This Row],[TIPO DE REGISTRO ]])," ",PROGRAMACION[[#This Row],[TIPO DE REGISTRO ]]) -> 2 | B6: =IF(ISBLANK(PROGRAMACION[[#This Row],[CONSECUTIVO DE REGISTRO]])," ",PROGRAMACION[[#This Row],[CONSECUTIVO DE REGISTRO]]) -> 2 | C6: =IF(ISBLANK(PROGRAMACION[[#This Row],[CODIGO DEL TERRITORIO DE REFERENCIA DE APLICACION DEL PLAN DE ACCION]])," ",PROGRAMACION[[#This Row],[CODIGO DEL TERRITORIO DE REFERENCIA DE APLICACION DEL PLAN DE ACCION]]) -> 5674 | D6: =IF(ISBLANK(PROGRAMACION[[#This Row],[CODIGO DE LA LINEA DE ACCION POR EJE ESTRATEGICO]])," ",PROGRAMACION[[#This Row],[CODIGO DE LA LINEA DE ACCION POR EJE ESTRATEGICO]]) -> E1Lb | E6: =IF(ISBLANK(PROGRAMACION[[#This Row],[CONSECUTIVO DE LA META DE LA LINEA DE ACCION]])," ",PROGRAMACION[[#This Row],[CONSECUTIVO DE LA META DE LA LINEA DE ACCION]]) -> M01 | F6: =IF(ISBLANK(PROGRAMACION[[#This Row],[CONSECUTIVO DE LA ACTIVIDAD DE LA META]])," ",PROGRAMACION[[#This Row],[CONSECUTIVO DE LA ACTIVIDAD DE LA META]]) -> A01 | K6: 10
A7: =IF(ISBLANK(PROGRAMACION[[#This Row],[TIPO DE REGISTRO ]])," ",PROGRAMACION[[#This Row],[TIPO DE REGISTRO ]]) -> 2 | B7: =IF(ISBLANK(PROGRAMACION[[#This Row],[CONSECUTIVO DE REGISTRO]])," ",PROGRAMACION[[#This Row],[CONSECUTIVO DE REGISTRO]]) -> 3 | C7: =IF(ISBLANK(PROGRAMACION[[#This Row],[CODIGO DEL TERRITORIO DE REFERENCIA DE APLICACION DEL PLAN DE ACCION]])," ",PROGRAMACION[[#This Row],[CODIGO DEL TERRITORIO DE REFERENCIA DE APLICACION DEL PLAN DE ACCION]]) -> 5674 | D7: =IF(ISBLANK(PROGRAMACION[[#This Row],[CODIGO DE LA LINEA DE ACCION POR EJE ESTRATEGICO]])," ",PROGRAMACION[[#This Row],[CODIGO DE LA LINEA DE ACCION POR EJE ESTRATEGICO]]) -> E1Le | E7: =IF(ISBLANK(PROGRAMACION[[#This Row],[CONSECUTIVO DE LA META DE LA LINEA DE ACCION]])," ",PROGRAMACION[[#This Row],[CONSECUTIVO DE LA META DE LA LINEA DE ACCION]]) -> M01 | F7: =IF(ISBLANK(PROGRAMACION[[#This Row],[CONSECUTIVO DE LA ACTIVIDAD DE LA META]])," ",PROGRAMACION[[#This Row],[CONSECUTIVO DE LA ACTIVIDAD DE LA META]]) -> A01 | K7: 10
A8: =IF(ISBLANK(PROGRAMACION[[#This Row],[TIPO DE REGISTRO ]])," ",PROGRAMACION[[#This Row],[TIPO DE REGISTRO ]]) -> 2 | B8: =IF(ISBLANK(PROGRAMACION[[#This Row],[CONSECUTIVO DE REGISTRO]])," ",PROGRAMACION[[#This Row],[CONSECUTIVO DE REGISTRO]]) -> 4 | C8: =IF(ISBLANK(PROGRAMACION[[#This Row],[CODIGO DEL TERRITORIO DE REFERENCIA DE APLICACION DEL PLAN DE ACCION]])," ",PROGRAMACION[[#This Row],[CODIGO DEL TERRITORIO DE REFERENCIA DE APLICACION DEL PLAN DE ACCION]]) -> 5674 | D8: =IF(ISBLANK(PROGRAMACION[[#This Row],[CODIGO DE LA LINEA DE ACCION POR EJE ESTRATEGICO]])," ",PROGRAMACION[[#This Row],[CODIGO DE LA LINEA DE ACCION POR EJE ESTRATEGICO]]) -> E1Lh | E8: =IF(ISBLANK(PROGRAMACION[[#This Row],[CONSECUTIVO DE LA META DE LA LINEA DE ACCION]])," ",PROGRAMACION[[#This Row],[CONSECUTIVO DE LA META DE LA LINEA DE ACCION]]) -> M01 | F8: =IF(ISBLANK(PROGRAMACION[[#This Row],[CONSECUTIVO DE LA ACTIVIDAD DE LA META]])," ",PROGRAMACION[[#This Row],[CONSECUTIVO DE LA ACTIVIDAD DE LA META]]) -> A01 | K8: 01
A9: =IF(ISBLANK(PROGRAMACION[[#This Row],[TIPO DE REGISTRO ]])," ",PROGRAMACION[[#This Row],[TIPO DE REGISTRO ]]) -> 2 | B9: =IF(ISBLANK(PROGRAMACION[[#This Row],[CONSECUTIVO DE REGISTRO]])," ",PROGRAMACION[[#This Row],[CONSECUTIVO DE REGISTRO]]) -> 5 | C9: =IF(ISBLANK(PROGRAMACION[[#This Row],[CODIGO DEL TERRITORIO DE REFERENCIA DE APLICACION DEL PLAN DE ACCION]])," ",PROGRAMACION[[#This Row],[CODIGO DEL TERRITORIO DE REFERENCIA DE APLICACION DEL PLAN DE ACCION]]) -> 5674 | D9: =IF(ISBLANK(PROGRAMACION[[#This Row],[CODIGO DE LA LINEA DE ACCION POR EJE ESTRATEGICO]])," ",PROGRAMACION[[#This Row],[CODIGO DE LA LINEA DE ACCION POR EJE ESTRATEGICO]]) -> E2La | E9: =IF(ISBLANK(PROGRAMACION[[#This Row],[CONSECUTIVO DE LA META DE LA LINEA DE ACCION]])," ",PROGRAMACION[[#This Row],[CONSECUTIVO DE LA META DE LA LINEA DE ACCION]]) -> M01 | F9: =IF(ISBLANK(PROGRAMACION[[#This Row],[CONSECUTIVO DE LA ACTIVIDAD DE LA META]])," ",PROGRAMACION[[#This Row],[CONSECUTIVO DE LA ACTIVIDAD DE LA META]]) -> A01 | K9: 10
A10: =IF(ISBLANK(PROGRAMACION[[#This Row],[TIPO DE REGISTRO ]])," ",PROGRAMACION[[#This Row],[TIPO DE REGISTRO ]]) -> 2 | B10: =IF(ISBLANK(PROGRAMACION[[#This Row],[CONSECUTIVO DE REGISTRO]])," ",PROGRAMACION[[#This Row],[CONSECUTIVO DE REGISTRO]]) -> 6 | C10: =IF(ISBLANK(PROGRAMACION[[#This Row],[CODIGO DEL TERRITORIO DE REFERENCIA DE APLICACION DEL PLAN DE ACCION]])," ",PROGRAMACION[[#This Row],[CODIGO DEL TERRITORIO DE REFERENCIA DE APLICACION DEL PLAN DE ACCION]]) -> 5674 | D10: =IF(ISBLANK(PROGRAMACION[[#This Row],[CODIGO DE LA LINEA DE ACCION POR EJE ESTRATEGICO]])," ",PROGRAMACION[[#This Row],[CODIGO DE LA LINEA DE ACCION POR EJE ESTRATEGICO]]) -> E2lb | E10: =IF(ISBLANK(PROGRAMACION[[#This Row],[CONSECUTIVO DE LA META DE LA LINEA DE ACCION]])," ",PROGRAMACION[[#This Row],[CONSECUTIVO DE LA META DE LA LINEA DE ACCION]]) -> M01 | F10: =IF(ISBLANK(PROGRAMACION[[#This Row],[CONSECUTIVO DE LA ACTIVIDAD DE LA META]])," ",PROGRAMACION[[#This Row],[CONSECUTIVO DE LA ACTIVIDAD DE LA META]]) -> A01 | K10: 01
A11: =IF(ISBLANK(PROGRAMACION[[#This Row],[TIPO DE REGISTRO ]])," ",PROGRAMACION[[#This Row],[TIPO DE REGISTRO ]]) -> 2 | B11: =IF(ISBLANK(PROGRAMACION[[#This Row],[CONSECUTIVO DE REGISTRO]])," ",PROGRAMACION[[#This Row],[CONSECUTIVO DE REGISTRO]]) -> 7 | C11: =IF(ISBLANK(PROGRAMACION[[#This Row],[CODIGO DEL TERRITORIO DE REFERENCIA DE APLICACION DEL PLAN DE ACCION]])," ",PROGRAMACION[[#This Row],[CODIGO DEL TERRITORIO DE REFERENCIA DE APLICACION DEL PLAN DE ACCION]]) -> 5674 | D11: =IF(ISBLANK(PROGRAMACION[[#This Row],[CODIGO DE LA LINEA DE ACCION POR EJE ESTRATEGICO]])," ",PROGRAMACION[[#This Row],[CODIGO DE LA LINEA DE ACCION POR EJE ESTRATEGICO]]) -> E2Lc | E11: =IF(ISBLANK(PROGRAMACION[[#This Row],[CONSECUTIVO DE LA META DE LA LINEA DE ACCION]])," ",PROGRAMACION[[#This Row],[CONSECUTIVO DE LA META DE LA LINEA DE ACCION]]) -> M01 | F11: =IF(ISBLANK(PROGRAMACION[[#This Row],[CONSECUTIVO DE LA ACTIVIDAD DE LA META]])," ",PROGRAMACION[[#This Row],[CONSECUTIVO DE LA ACTIVIDAD DE LA META]]) -> A01 | K11: 01
A12: =IF(ISBLANK(PROGRAMACION[[#This Row],[TIPO DE REGISTRO ]])," ",PROGRAMACION[[#This Row],[TIPO DE REGISTRO ]]) -> 2 | B12: =IF(ISBLANK(PROGRAMACION[[#This Row],[CONSECUTIVO DE REGISTRO]])," ",PROGRAMACION[[#This Row],[CONSECUTIVO DE REGISTRO]]) -> 8 | C12: =IF(ISBLANK(PROGRAMACION[[#This Row],[CODIGO DEL TERRITORIO DE REFERENCIA DE APLICACION DEL PLAN DE ACCION]])," ",PROGRAMACION[[#This Row],[CODIGO DEL TERRITORIO DE REFERENCIA DE APLICACION DEL PLAN DE ACCION]]) -> 5674 | D12: =IF(ISBLANK(PROGRAMACION[[#This Row],[CODIGO DE LA LINEA DE ACCION POR EJE ESTRATEGICO]])," ",PROGRAMACION[[#This Row],[CODIGO DE LA LINEA DE ACCION POR EJE ESTRATEGICO]]) -> E2Ld | E12: =IF(ISBLANK(PROGRAMACION[[#This Row],[CONSECUTIVO DE LA META DE LA LINEA DE ACCION]])," ",PROGRAMACION[[#This Row],[CONSECUTIVO DE LA META DE LA LINEA DE ACCION]]) -> M01 | F12: =IF(ISBLANK(PROGRAMACION[[#This Row],[CONSECUTIVO DE LA ACTIVIDAD DE LA META]])," ",PROGRAMACION[[#This Row],[CONSECUTIVO DE LA ACTIVIDAD DE LA META]]) -> A01 | K12: 01
A13: =IF(ISBLANK(PROGRAMACION[[#This Row],[TIPO DE REGISTRO ]])," ",PROGRAMACION[[#This Row],[TIPO DE REGISTRO ]]) -> 2 | B13: =IF(ISBLANK(PROGRAMACION[[#This Row],[CONSECUTIVO DE REGISTRO]])," ",PROGRAMACION[[#This Row],[CONSECUTIVO DE REGISTRO]]) -> 9 | C13: =IF(ISBLANK(PROGRAMACION[[#This Row],[CODIGO DEL TERRITORIO DE REFERENCIA DE APLICACION DEL PLAN DE ACCION]])," ",PROGRAMACION[[#This Row],[CODIGO DEL TERRITORIO DE REFERENCIA DE APLICACION DEL PLAN DE ACCION]]) -> 5674 | D13: =IF(ISBLANK(PROGRAMACION[[#This Row],[CODIGO DE LA LINEA DE ACCION POR EJE ESTRATEGICO]])," ",PROGRAMACION[[#This Row],[CODIGO DE LA LINEA DE ACCION POR EJE ESTRATEGICO]]) -> E2Le | E13: =IF(ISBLANK(PROGRAMACION[[#This Row],[CONSECUTIVO DE LA META DE LA LINEA DE ACCION]])," ",PROGRAMACION[[#This Row],[CONSECUTIVO DE LA META DE LA LINEA DE ACCION]]) -> M01 | F13: =IF(ISBLANK(PROGRAMACION[[#This Row],[CONSECUTIVO DE LA ACTIVIDAD DE LA META]])," ",PROGRAMACION[[#This Row],[CONSECUTIVO DE LA ACTIVIDAD DE LA META]]) -> A01 | K13: 10
A14: =IF(ISBLANK(PROGRAMACION[[#This Row],[TIPO DE REGISTRO ]])," ",PROGRAMACION[[#This Row],[TIPO DE REGISTRO ]]) -> 2 | B14: =IF(ISBLANK(PROGRAMACION[[#This Row],[CONSECUTIVO DE REGISTRO]])," ",PROGRAMACION[[#This Row],[CONSECUTIVO DE REGISTRO]]) -> 10 | C14: =IF(ISBLANK(PROGRAMACION[[#This Row],[CODIGO DEL TERRITORIO DE REFERENCIA DE APLICACION DEL PLAN DE ACCION]])," ",PROGRAMACION[[#This Row],[CODIGO DEL TERRITORIO DE REFERENCIA DE APLICACION DEL PLAN DE ACCION]]) -> 5674 | D14: =IF(ISBLANK(PROGRAMACION[[#This Row],[CODIGO DE LA LINEA DE ACCION POR EJE ESTRATEGICO]])," ",PROGRAMACION[[#This Row],[CODIGO DE LA LINEA DE ACCION POR EJE ESTRATEGICO]]) -> E3La | E14: =IF(ISBLANK(PROGRAMACION[[#This Row],[CONSECUTIVO DE LA META DE LA LINEA DE ACCION]])," ",PROGRAMACION[[#This Row],[CONSECUTIVO DE LA META DE LA LINEA DE ACCION]]) -> M01 | F14: =IF(ISBLANK(PROGRAMACION[[#This Row],[CONSECUTIVO DE LA ACTIVIDAD DE LA META]])," ",PROGRAMACION[[#This Row],[CONSECUTIVO DE LA ACTIVIDAD DE LA META]]) -> A01 | K14: 10
A15: =IF(ISBLANK(PROGRAMACION[[#This Row],[TIPO DE REGISTRO ]])," ",PROGRAMACION[[#This Row],[TIPO DE REGISTRO ]]) -> 2 | B15: =IF(ISBLANK(PROGRAMACION[[#This Row],[CONSECUTIVO DE REGISTRO]])," ",PROGRAMACION[[#This Row],[CONSECUTIVO DE REGISTRO]]) -> 11 | C15: =IF(ISBLANK(PROGRAMACION[[#This Row],[CODIGO DEL TERRITORIO DE REFERENCIA DE APLICACION DEL PLAN DE ACCION]])," ",PROGRAMACION[[#This Row],[CODIGO DEL TERRITORIO DE REFERENCIA DE APLICACION DEL PLAN DE ACCION]]) -> 5674 | D15: =IF(ISBLANK(PROGRAMACION[[#This Row],[CODIGO DE LA LINEA DE ACCION POR EJE ESTRATEGICO]])," ",PROGRAMACION[[#This Row],[CODIGO DE LA LINEA DE ACCION POR EJE ESTRATEGICO]]) -> E3Lb | E15: =IF(ISBLANK(PROGRAMACION[[#This Row],[CONSECUTIVO DE LA META DE LA LINEA DE ACCION]])," ",PROGRAMACION[[#This Row],[CONSECUTIVO DE LA META DE LA LINEA DE ACCION]]) -> M01 | F15: =IF(ISBLANK(PROGRAMACION[[#This Row],[CONSECUTIVO DE LA ACTIVIDAD DE LA META]])," ",PROGRAMACION[[#This Row],[CONSECUTIVO DE LA ACTIVIDAD DE LA META]]) -> A01 | K15: 01
A16: =IF(ISBLANK(PROGRAMACION[[#This Row],[TIPO DE REGISTRO ]])," ",PROGRAMACION[[#This Row],[TIPO DE REGISTRO ]]) -> 2 | B16: =IF(ISBLANK(PROGRAMACION[[#This Row],[CONSECUTIVO DE REGISTRO]])," ",PROGRAMACION[[#This Row],[CONSECUTIVO DE REGISTRO]]) -> 12 | C16: =IF(ISBLANK(PROGRAMACION[[#This Row],[CODIGO DEL TERRITORIO DE REFERENCIA DE APLICACION DEL PLAN DE ACCION]])," ",PROGRAMACION[[#This Row],[CODIGO DEL TERRITORIO DE REFERENCIA DE APLICACION DEL PLAN DE ACCION]]) -> 5674 | D16: =IF(ISBLANK(PROGRAMACION[[#This Row],[CODIGO DE LA LINEA DE ACCION POR EJE ESTRATEGICO]])," ",PROGRAMACION[[#This Row],[CODIGO DE LA LINEA DE ACCION POR EJE ESTRATEGICO]]) -> E3Lc | E16: =IF(ISBLANK(PROGRAMACION[[#This Row],[CONSECUTIVO DE LA META DE LA LINEA DE ACCION]])," ",PROGRAMACION[[#This Row],[CONSECUTIVO DE LA META DE LA LINEA DE ACCION]]) -> M01 | F16: =IF(ISBLANK(PROGRAMACION[[#This Row],[CONSECUTIVO DE LA ACTIVIDAD DE LA META]])," ",PROGRAMACION[[#This Row],[CONSECUTIVO DE LA ACTIVIDAD DE LA META]]) -> A01 | K16: 10
... A24: =IF(ISBLANK(PROGRAMACION[[#This Row],[TIPO DE REGISTRO ]])," ",PROGRAMACION[[#This Row],[TIPO DE REGISTRO ]]) -> 2 | B24: =IF(ISBLANK(PROGRAMACION[[#This Row],[CONSECUTIVO DE REGISTRO]])," ",PROGRAMACION[[#This Row],[CONSECUTIVO DE REGISTRO]]) -> 20 | C24: =IF(ISBLANK(PROGRAMACION[[#This Row],[CODIGO DEL TERRITORIO DE REFERENCIA DE APLICACION DEL PLAN DE ACCION]])," ",PROGRAMACION[[#This Row],[CODIGO DEL TERRITORIO DE REFERENCIA DE APLICACION DEL PLAN DE ACCION]]) -> 5674 | D24: =IF(ISBLANK(PROGRAMACION[[#This Row],[CODIGO DE LA LINEA DE ACCION POR EJE ESTRATEGICO]])," ",PROGRAMACION[[#This Row],[CODIGO DE LA LINEA DE ACCION POR EJE ESTRATEGICO]]) -> E5Ld | E24: =IF(ISBLANK(PROGRAMACION[[#This Row],[CONSECUTIVO DE LA META DE LA LINEA DE ACCION]])," ",PROGRAMACION[[#This Row],[CONSECUTIVO DE LA META DE LA LINEA DE ACCION]]) -> M01 | F24: =IF(ISBLANK(PROGRAMACION[[#This Row],[CONSECUTIVO DE LA ACTIVIDAD DE LA META]])," ",PROGRAMACION[[#This Row],[CONSECUTIVO DE LA ACTIVIDAD DE LA META]]) -> A01 | K24: 10
A25: =IF(ISBLANK(PROGRAMACION[[#This Row],[TIPO DE REGISTRO ]])," ",PROGRAMACION[[#This Row],[TIPO DE REGISTRO ]]) | B25: =IF(ISBLANK(PROGRAMACION[[#This Row],[CONSECUTIVO DE REGISTRO]])," ",PROGRAMACION[[#This Row],[CONSECUTIVO DE REGISTRO]]) | C25: =IF(ISBLANK(PROGRAMACION[[#This Row],[CODIGO DEL TERRITORIO DE REFERENCIA DE APLICACION DEL PLAN DE ACCION]])," ",PROGRAMACION[[#This Row],[CODIGO DEL TERRITORIO DE REFERENCIA DE APLICACION DEL PLAN DE ACCION]]) | D25: =IF(ISBLANK(PROGRAMACION[[#This Row],[CODIGO DE LA LINEA DE ACCION POR EJE ESTRATEGICO]])," ",PROGRAMACION[[#This Row],[CODIGO DE LA LINEA DE ACCION POR EJE ESTRATEGICO]]) | E25: =IF(ISBLANK(PROGRAMACION[[#This Row],[CONSECUTIVO DE LA META DE LA LINEA DE ACCION]])," ",PROGRAMACION[[#This Row],[CONSECUTIVO DE LA META DE LA LINEA DE ACCION]]) | F25: =IF(ISBLANK(PROGRAMACION[[#This Row],[CONSECUTIVO DE LA ACTIVIDAD DE LA META]])," ",PROGRAMACION[[#This Row],[CONSECUTIVO DE LA ACTIVIDAD DE LA META]]) | H25: =IF(ISBLANK(PROGRAMACION[[#This Row],[CODIGO DE LA POBLACION OBJETIVO]])," ",PROGRAMACION[[#This Row],[CODIGO DE LA POBLACION OBJETIVO]]) | I25: =IF(G25=0,"0",IF(G25>=1," ")) -> 0
A26: =IF(ISBLANK(PROGRAMACION[[#This Row],[TIPO DE REGISTRO ]])," ",PROGRAMACION[[#This Row],[TIPO DE REGISTRO ]]) | B26: =IF(ISBLANK(PROGRAMACION[[#This Row],[CONSECUTIVO DE REGISTRO]])," ",PROGRAMACION[[#This Row],[CONSECUTIVO DE REGISTRO]]) | C26: =IF(ISBLANK(PROGRAMACION[[#This Row],[CODIGO DEL TERRITORIO DE REFERENCIA DE APLICACION DEL PLAN DE ACCION]])," ",PROGRAMACION[[#This Row],[CODIGO DEL TERRITORIO DE REFERENCIA DE APLICACION DEL PLAN DE ACCION]]) | D26: =IF(ISBLANK(PROGRAMACION[[#This Row],[CODIGO DE LA LINEA DE ACCION POR EJE ESTRATEGICO]])," ",PROGRAMACION[[#This Row],[CODIGO DE LA LINEA DE ACCION POR EJE ESTRATEGICO]]) | E26: =IF(ISBLANK(PROGRAMACION[[#This Row],[CONSECUTIVO DE LA META DE LA LINEA DE ACCION]])," ",PROGRAMACION[[#This Row],[CONSECUTIVO DE LA META DE LA LINEA DE ACCION]]) | F26: =IF(ISBLANK(PROGRAMACION[[#This Row],[CONSECUTIVO DE LA ACTIVIDAD DE LA META]])," ",PROGRAMACION[[#This Row],[CONSECUTIVO DE LA ACTIVIDAD DE LA META]]) | H26: =IF(ISBLANK(PROGRAMACION[[#This Row],[CODIGO DE LA POBLACION OBJETIVO]])," ",PROGRAMACION[[#This Row],[CODIGO DE LA POBLACION OBJETIVO]]) | I26: =IF(G26=0,"0",IF(G26>=1," ")) -> 0
A27: =IF(ISBLANK(PROGRAMACION[[#This Row],[TIPO DE REGISTRO ]])," ",PROGRAMACION[[#This Row],[TIPO DE REGISTRO ]]) | B27: =IF(ISBLANK(PROGRAMACION[[#This Row],[CONSECUTIVO DE REGISTRO]])," ",PROGRAMACION[[#This Row],[CONSECUTIVO DE REGISTRO]]) | C27: =IF(ISBLANK(PROGRAMACION[[#This Row],[CODIGO DEL TERRITORIO DE REFERENCIA DE APLICACION DEL PLAN DE ACCION]])," ",PROGRAMACION[[#This Row],[CODIGO DEL TERRITORIO DE REFERENCIA DE APLICACION DEL PLAN DE ACCION]]) | D27: =IF(ISBLANK(PROGRAMACION[[#This Row],[CODIGO DE LA LINEA DE ACCION POR EJE ESTRATEGICO]])," ",PROGRAMACION[[#This Row],[CODIGO DE LA LINEA DE ACCION POR EJE ESTRATEGICO]]) | E27: =IF(ISBLANK(PROGRAMACION[[#This Row],[CONSECUTIVO DE LA META DE LA LINEA DE ACCION]])," ",PROGRAMACION[[#This Row],[CONSECUTIVO DE LA META DE LA LINEA DE ACCION]]) | F27: =IF(ISBLANK(PROGRAMACION[[#This Row],[CONSECUTIVO DE LA ACTIVIDAD DE LA META]])," ",PROGRAMACION[[#This Row],[CONSECUTIVO DE LA ACTIVIDAD DE LA META]]) | H27: =IF(ISBLANK(PROGRAMACION[[#This Row],[CODIGO DE LA POBLACION OBJETIVO]])," ",PROGRAMACION[[#This Row],[CODIGO DE LA POBLACION OBJETIVO]]) | I27: =IF(G27=0,"0",IF(G27>=1," ")) -> 0
A28: =IF(ISBLANK(PROGRAMACION[[#This Row],[TIPO DE REGISTRO ]])," ",PROGRAMACION[[#This Row],[TIPO DE REGISTRO ]]) | B28: =IF(ISBLANK(PROGRAMACION[[#This Row],[CONSECUTIVO DE REGISTRO]])," ",PROGRAMACION[[#This Row],[CONSECUTIVO DE REGISTRO]]) | C28: =IF(ISBLANK(PROGRAMACION[[#This Row],[CODIGO DEL TERRITORIO DE REFERENCIA DE APLICACION DEL PLAN DE ACCION]])," ",PROGRAMACION[[#This Row],[CODIGO DEL TERRITORIO DE REFERENCIA DE APLICACION DEL PLAN DE ACCION]]) | D28: =IF(ISBLANK(PROGRAMACION[[#This Row],[CODIGO DE LA LINEA DE ACCION POR EJE ESTRATEGICO]])," ",PROGRAMACION[[#This Row],[CODIGO DE LA LINEA DE ACCION POR EJE ESTRATEGICO]]) | E28: =IF(ISBLANK(PROGRAMACION[[#This Row],[CONSECUTIVO DE LA META DE LA LINEA DE ACCION]])," ",PROGRAMACION[[#This Row],[CONSECUTIVO DE LA META DE LA LINEA DE ACCION]]) | F28: =IF(ISBLANK(PROGRAMACION[[#This Row],[CONSECUTIVO DE LA ACTIVIDAD DE LA META]])," ",PROGRAMACION[[#This Row],[CONSECUTIVO DE LA ACTIVIDAD DE LA META]]) | H28: =IF(ISBLANK(PROGRAMACION[[#This Row],[CODIGO DE LA POBLACION OBJETIVO]])," ",PROGRAMACION[[#This Row],[CODIGO DE LA POBLACION OBJETIVO]]) | I28: =IF(G28=0,"0",IF(G28>=1," ")) -> 0
A29: =IF(ISBLANK(PROGRAMACION[[#This Row],[TIPO DE REGISTRO ]])," ",PROGRAMACION[[#This Row],[TIPO DE REGISTRO ]]) | B29: =IF(ISBLANK(PROGRAMACION[[#This Row],[CONSECUTIVO DE REGISTRO]])," ",PROGRAMACION[[#This Row],[CONSECUTIVO DE REGISTRO]]) | C29: =IF(ISBLANK(PROGRAMACION[[#This Row],[CODIGO DEL TERRITORIO DE REFERENCIA DE APLICACION DEL PLAN DE ACCION]])," ",PROGRAMACION[[#This Row],[CODIGO DEL TERRITORIO DE REFERENCIA DE APLICACION DEL PLAN DE ACCION]]) | D29: =IF(ISBLANK(PROGRAMACION[[#This Row],[CODIGO DE LA LINEA DE ACCION POR EJE ESTRATEGICO]])," ",PROGRAMACION[[#This Row],[CODIGO DE LA LINEA DE ACCION POR EJE ESTRATEGICO]]) | E29: =IF(ISBLANK(PROGRAMACION[[#This Row],[CONSECUTIVO DE LA META DE LA LINEA DE ACCION]])," ",PROGRAMACION[[#This Row],[CONSECUTIVO DE LA META DE LA LINEA DE ACCION]]) | F29: =IF(ISBLANK(PROGRAMACION[[#This Row],[CONSECUTIVO DE LA ACTIVIDAD DE LA META]])," ",PROGRAMACION[[#This Row],[CONSECUTIVO DE LA ACTIVIDAD DE LA META]]) | H29: =IF(ISBLANK(PROGRAMACION[[#This Row],[CODIGO DE LA POBLACION OBJETIVO]])," ",PROGRAMACION[[#This Row],[CODIGO DE LA POBLACION OBJETIVO]]) | I29: =IF(G29=0,"0",IF(G29>=1," ")) -> 0
A30: =IF(ISBLANK(PROGRAMACION[[#This Row],[TIPO DE REGISTRO ]])," ",PROGRAMACION[[#This Row],[TIPO DE REGISTRO ]]) | B30: =IF(ISBLANK(PROGRAMACION[[#This Row],[CONSECUTIVO DE REGISTRO]])," ",PROGRAMACION[[#This Row],[CONSECUTIVO DE REGISTRO]]) | C30: =IF(ISBLANK(PROGRAMACION[[#This Row],[CODIGO DEL TERRITORIO DE REFERENCIA DE APLICACION DEL PLAN DE ACCION]])," ",PROGRAMACION[[#This Row],[CODIGO DEL TERRITORIO DE REFERENCIA DE APLICACION DEL PLAN DE ACCION]]) | D30: =IF(ISBLANK(PROGRAMACION[[#This Row],[CODIGO DE LA LINEA DE ACCION POR EJE ESTRATEGICO]])," ",PROGRAMACION[[#This Row],[CODIGO DE LA LINEA DE ACCION POR EJE ESTRATEGICO]]) | E30: =IF(ISBLANK(PROGRAMACION[[#This Row],[CONSECUTIVO DE LA META DE LA LINEA DE ACCION]])," ",PROGRAMACION[[#This Row],[CONSECUTIVO DE LA META DE LA LINEA DE ACCION]]) | F30: =IF(ISBLANK(PROGRAMACION[[#This Row],[CONSECUTIVO DE LA ACTIVIDAD DE LA META]])," ",PROGRAMACION[[#This Row],[CONSECUTIVO DE LA ACTIVIDAD DE LA META]]) | H30: =IF(ISBLANK(PROGRAMACION[[#This Row],[CODIGO DE LA POBLACION OBJETIVO]])," ",PROGRAMACION[[#This Row],[CODIGO DE LA POBLACION OBJETIVO]]) | I30: =IF(G30=0,"0",IF(G30>=1," ")) -> 0
A31: =IF(ISBLANK(PROGRAMACION[[#This Row],[TIPO DE REGISTRO ]])," ",PROGRAMACION[[#This Row],[TIPO DE REGISTRO ]]) | B31: =IF(ISBLANK(PROGRAMACION[[#This Row],[CONSECUTIVO DE REGISTRO]])," ",PROGRAMACION[[#This Row],[CONSECUTIVO DE REGISTRO]]) | C31: =IF(ISBLANK(PROGRAMACION[[#This Row],[CODIGO DEL TERRITORIO DE REFERENCIA DE APLICACION DEL PLAN DE ACCION]])," ",PROGRAMACION[[#This Row],[CODIGO DEL TERRITORIO DE REFERENCIA DE APLICACION DEL PLAN DE ACCION]]) | D31: =IF(ISBLANK(PROGRAMACION[[#This Row],[CODIGO DE LA LINEA DE ACCION POR EJE ESTRATEGICO]])," ",PROGRAMACION[[#This Row],[CODIGO DE LA LINEA DE ACCION POR EJE ESTRATEGICO]]) | E31: =IF(ISBLANK(PROGRAMACION[[#This Row],[CONSECUTIVO DE LA META DE LA LINEA DE ACCION]])," ",PROGRAMACION[[#This Row],[CONSECUTIVO DE LA META DE LA LINEA DE ACCION]]) | F31: =IF(ISBLANK(PROGRAMACION[[#This Row],[CONSECUTIVO DE LA ACTIVIDAD DE LA META]])," ",PROGRAMACION[[#This Row],[CONSECUTIVO DE LA ACTIVIDAD DE LA META]]) | H31: =IF(ISBLANK(PROGRAMACION[[#This Row],[CODIGO DE LA POBLACION OBJETIVO]])," ",PROGRAMACION[[#This Row],[CODIGO DE LA POBLACION OBJETIVO]]) | I31: =IF(G31=0,"0",IF(G31>=1," ")) -> 0
A32: =IF(ISBLANK(PROGRAMACION[[#This Row],[TIPO DE REGISTRO ]])," ",PROGRAMACION[[#This Row],[TIPO DE REGISTRO ]]) | B32: =IF(ISBLANK(PROGRAMACION[[#This Row],[CONSECUTIVO DE REGISTRO]])," ",PROGRAMACION[[#This Row],[CONSECUTIVO DE REGISTRO]]) | C32: =IF(ISBLANK(PROGRAMACION[[#This Row],[CODIGO DEL TERRITORIO DE REFERENCIA DE APLICACION DEL PLAN DE ACCION]])," ",PROGRAMACION[[#This Row],[CODIGO DEL TERRITORIO DE REFERENCIA DE APLICACION DEL PLAN DE ACCION]]) | D32: =IF(ISBLANK(PROGRAMACION[[#This Row],[CODIGO DE LA LINEA DE ACCION POR EJE ESTRATEGICO]])," ",PROGRAMACION[[#This Row],[CODIGO DE LA LINEA DE ACCION POR EJE ESTRATEGICO]]) | E32: =IF(ISBLANK(PROGRAMACION[[#This Row],[CONSECUTIVO DE LA META DE LA LINEA DE ACCION]])," ",PROGRAMACION[[#This Row],[CONSECUTIVO DE LA META DE LA LINEA DE ACCION]]) | F32: =IF(ISBLANK(PROGRAMACION[[#This Row],[CONSECUTIVO DE LA ACTIVIDAD DE LA META]])," ",PROGRAMACION[[#This Row],[CONSECUTIVO DE LA ACTIVIDAD DE LA META]]) | H32: =IF(ISBLANK(PROGRAMACION[[#This Row],[CODIGO DE LA POBLACION OBJETIVO]])," ",PROGRAMACION[[#This Row],[CODIGO DE LA POBLACION OBJETIVO]]) | I32: =IF(G32=0,"0",IF(G32>=1," ")) -> 0
A33: =IF(ISBLANK(PROGRAMACION[[#This Row],[TIPO DE REGISTRO ]])," ",PROGRAMACION[[#This Row],[TIPO DE REGISTRO ]]) | B33: =IF(ISBLANK(PROGRAMACION[[#This Row],[CONSECUTIVO DE REGISTRO]])," ",PROGRAMACION[[#This Row],[CONSECUTIVO DE REGISTRO]]) | C33: =IF(ISBLANK(PROGRAMACION[[#This Row],[CODIGO DEL TERRITORIO DE REFERENCIA DE APLICACION DEL PLAN DE ACCION]])," ",PROGRAMACION[[#This Row],[CODIGO DEL TERRITORIO DE REFERENCIA DE APLICACION DEL PLAN DE ACCION]]) | D33: =IF(ISBLANK(PROGRAMACION[[#This Row],[CODIGO DE LA LINEA DE ACCION POR EJE ESTRATEGICO]])," ",PROGRAMACION[[#This Row],[CODIGO DE LA LINEA DE ACCION POR EJE ESTRATEGICO]]) | E33: =IF(ISBLANK(PROGRAMACION[[#This Row],[CONSECUTIVO DE LA META DE LA LINEA DE ACCION]])," ",PROGRAMACION[[#This Row],[CONSECUTIVO DE LA META DE LA LINEA DE ACCION]]) | F33: =IF(ISBLANK(PROGRAMACION[[#This Row],[CONSECUTIVO DE LA ACTIVIDAD DE LA META]])," ",PROGRAMACION[[#This Row],[CONSECUTIVO DE LA ACTIVIDAD DE LA META]]) | H33: =IF(ISBLANK(PROGRAMACION[[#This Row],[CODIGO DE LA POBLACION OBJETIVO]])," ",PROGRAMACION[[#This Row],[CODIGO DE LA POBLACION OBJETIVO]]) | I33: =IF(G33=0,"0",IF(G33>=1," ")) -> 0
A34: =IF(ISBLANK(PROGRAMACION[[#This Row],[TIPO DE REGISTRO ]])," ",PROGRAMACION[[#This Row],[TIPO DE REGISTRO ]]) | B34: =IF(ISBLANK(PROGRAMACION[[#This Row],[CONSECUTIVO DE REGISTRO]])," ",PROGRAMACION[[#This Row],[CONSECUTIVO DE REGISTRO]]) | C34: =IF(ISBLANK(PROGRAMACION[[#This Row],[CODIGO DEL TERRITORIO DE REFERENCIA DE APLICACION DEL PLAN DE ACCION]])," ",PROGRAMACION[[#This Row],[CODIGO DEL TERRITORIO DE REFERENCIA DE APLICACION DEL PLAN DE ACCION]]) | D34: =IF(ISBLANK(PROGRAMACION[[#This Row],[CODIGO DE LA LINEA DE ACCION POR EJE ESTRATEGICO]])," ",PROGRAMACION[[#This Row],[CODIGO DE LA LINEA DE ACCION POR EJE ESTRATEGICO]]) | E34: =IF(ISBLANK(PROGRAMACION[[#This Row],[CONSECUTIVO DE LA META DE LA LINEA DE ACCION]])," ",PROGRAMACION[[#This Row],[CONSECUTIVO DE LA META DE LA LINEA DE ACCION]]) | F34: =IF(ISBLANK(PROGRAMACION[[#This Row],[CONSECUTIVO DE LA ACTIVIDAD DE LA META]])," ",PROGRAMACION[[#This Row],[CONSECUTIVO DE LA ACTIVIDAD DE LA META]]) | H34: =IF(ISBLANK(PROGRAMACION[[#This Row],[CODIGO DE LA POBLACION OBJETIVO]])," ",PROGRAMACION[[#This Row],[CODIGO DE LA POBLACION OBJETIVO]]) | I34: =IF(G34=0,"0",IF(G34>=1," ")) -> 0
A35: =IF(ISBLANK(PROGRAMACION[[#This Row],[TIPO DE REGISTRO ]])," ",PROGRAMACION[[#This Row],[TIPO DE REGISTRO ]]) | B35: =IF(ISBLANK(PROGRAMACION[[#This Row],[CONSECUTIVO DE REGISTRO]])," ",PROGRAMACION[[#This Row],[CONSECUTIVO DE REGISTRO]]) | C35: =IF(ISBLANK(PROGRAMACION[[#This Row],[CODIGO DEL TERRITORIO DE REFERENCIA DE APLICACION DEL PLAN DE ACCION]])," ",PROGRAMACION[[#This Row],[CODIGO DEL TERRITORIO DE REFERENCIA DE APLICACION DEL PLAN DE ACCION]]) | D35: =IF(ISBLANK(PROGRAMACION[[#This Row],[CODIGO DE LA LINEA DE ACCION POR EJE ESTRATEGICO]])," ",PROGRAMACION[[#This Row],[CODIGO DE LA LINEA DE ACCION POR EJE ESTRATEGICO]]) | E35: =IF(ISBLANK(PROGRAMACION[[#This Row],[CONSECUTIVO DE LA META DE LA LINEA DE ACCION]])," ",PROGRAMACION[[#This Row],[CONSECUTIVO DE LA META DE LA LINEA DE ACCION]]) | F35: =IF(ISBLANK(PROGRAMACION[[#This Row],[CONSECUTIVO DE LA ACTIVIDAD DE LA META]])," ",PROGRAMACION[[#This Row],[CONSECUTIVO DE LA ACTIVIDAD DE LA META]]) | H35: =IF(ISBLANK(PROGRAMACION[[#This Row],[CODIGO DE LA POBLACION OBJETIVO]])," ",PROGRAMACION[[#This Row],[CODIGO DE LA POBLACION OBJETIVO]]) | I35: =IF(G35=0,"0",IF(G35>=1," ")) -> 0
A36: =IF(ISBLANK(PROGRAMACION[[#This Row],[TIPO DE REGISTRO ]])," ",PROGRAMACION[[#This Row],[TIPO DE REGISTRO ]]) | B36: =IF(ISBLANK(PROGRAMACION[[#This Row],[CONSECUTIVO DE REGISTRO]])," ",PROGRAMACION[[#This Row],[CONSECUTIVO DE REGISTRO]]) | C36: =IF(ISBLANK(PROGRAMACION[[#This Row],[CODIGO DEL TERRITORIO DE REFERENCIA DE APLICACION DEL PLAN DE ACCION]])," ",PROGRAMACION[[#This Row],[CODIGO DEL TERRITORIO DE REFERENCIA DE APLICACION DEL PLAN DE ACCION]]) | D36: =IF(ISBLANK(PROGRAMACION[[#This Row],[CODIGO DE LA LINEA DE ACCION POR EJE ESTRATEGICO]])," ",PROGRAMACION[[#This Row],[CODIGO DE LA LINEA DE ACCION POR EJE ESTRATEGICO]]) | E36: =IF(ISBLANK(PROGRAMACION[[#This Row],[CONSECUTIVO DE LA META DE LA LINEA DE ACCION]])," ",PROGRAMACION[[#This Row],[CONSECUTIVO DE LA META DE LA LINEA DE ACCION]]) | F36: =IF(ISBLANK(PROGRAMACION[[#This Row],[CONSECUTIVO DE LA ACTIVIDAD DE LA META]])," ",PROGRAMACION[[#This Row],[CONSECUTIVO DE LA ACTIVIDAD DE LA META]]) | H36: =IF(ISBLANK(PROGRAMACION[[#This Row],[CODIGO DE LA POBLACION OBJETIVO]])," ",PROGRAMACION[[#This Row],[CODIGO DE LA POBLACION OBJETIVO]]) | I36: =IF(G36=0,"0",IF(G36>=1," ")) -> 0
... A51: =IF(ISBLANK(PROGRAMACION[[#This Row],[TIPO DE REGISTRO ]])," ",PROGRAMACION[[#This Row],[TIPO DE REGISTRO ]]) | B51: =IF(ISBLANK(PROGRAMACION[[#This Row],[CONSECUTIVO DE REGISTRO]])," ",PROGRAMACION[[#This Row],[CONSECUTIVO DE REGISTRO]]) | C51: =IF(ISBLANK(PROGRAMACION[[#This Row],[CODIGO DEL TERRITORIO DE REFERENCIA DE APLICACION DEL PLAN DE ACCION]])," ",PROGRAMACION[[#This Row],[CODIGO DEL TERRITORIO DE REFERENCIA DE APLICACION DEL PLAN DE ACCION]]) | D51: =IF(ISBLANK(PROGRAMACION[[#This Row],[CODIGO DE LA LINEA DE ACCION POR EJE ESTRATEGICO]])," ",PROGRAMACION[[#This Row],[CODIGO DE LA LINEA DE ACCION POR EJE ESTRATEGICO]]) | E51: =IF(ISBLANK(PROGRAMACION[[#This Row],[CONSECUTIVO DE LA META DE LA LINEA DE ACCION]])," ",PROGRAMACION[[#This Row],[CONSECUTIVO DE LA META DE LA LINEA DE ACCION]]) | F51: =IF(ISBLANK(PROGRAMACION[[#This Row],[CONSECUTIVO DE LA ACTIVIDAD DE LA META]])," ",PROGRAMACION[[#This Row],[CONSECUTIVO DE LA ACTIVIDAD DE LA META]]) | H51: =IF(ISBLANK(PROGRAMACION[[#This Row],[CODIGO DE LA POBLACION OBJETIVO]])," ",PROGRAMACION[[#This Row],[CODIGO DE LA POBLACION OBJETIVO]]) | I51: =IF(G51=0,"0",IF(G51>=1," ")) -> 0
A52: =IF(ISBLANK(PROGRAMACION[[#This Row],[TIPO DE REGISTRO ]])," ",PROGRAMACION[[#This Row],[TIPO DE REGISTRO ]]) | B52: =IF(ISBLANK(PROGRAMACION[[#This Row],[CONSECUTIVO DE REGISTRO]])," ",PROGRAMACION[[#This Row],[CONSECUTIVO DE REGISTRO]]) | C52: =IF(ISBLANK(PROGRAMACION[[#This Row],[CODIGO DEL TERRITORIO DE REFERENCIA DE APLICACION DEL PLAN DE ACCION]])," ",PROGRAMACION[[#This Row],[CODIGO DEL TERRITORIO DE REFERENCIA DE APLICACION DEL PLAN DE ACCION]]) | D52: =IF(ISBLANK(PROGRAMACION[[#This Row],[CODIGO DE LA LINEA DE ACCION POR EJE ESTRATEGICO]])," ",PROGRAMACION[[#This Row],[CODIGO DE LA LINEA DE ACCION POR EJE ESTRATEGICO]]) | E52: =IF(ISBLANK(PROGRAMACION[[#This Row],[CONSECUTIVO DE LA META DE LA LINEA DE ACCION]])," ",PROGRAMACION[[#This Row],[CONSECUTIVO DE LA META DE LA LINEA DE ACCION]]) | F52: =IF(ISBLANK(PROGRAMACION[[#This Row],[CONSECUTIVO DE LA ACTIVIDAD DE LA META]])," ",PROGRAMACION[[#This Row],[CONSECUTIVO DE LA ACTIVIDAD DE LA META]]) | H52: =IF(ISBLANK(PROGRAMACION[[#This Row],[CODIGO DE LA POBLACION OBJETIVO]])," ",PROGRAMACION[[#This Row],[CODIGO DE LA POBLACION OBJETIVO]])
A53: =IF(ISBLANK(PROGRAMACION[[#This Row],[TIPO DE REGISTRO ]])," ",PROGRAMACION[[#This Row],[TIPO DE REGISTRO ]]) | B53: =IF(ISBLANK(PROGRAMACION[[#This Row],[CONSECUTIVO DE REGISTRO]])," ",PROGRAMACION[[#This Row],[CONSECUTIVO DE REGISTRO]]) | C53: =IF(ISBLANK(PROGRAMACION[[#This Row],[CODIGO DEL TERRITORIO DE REFERENCIA DE APLICACION DEL PLAN DE ACCION]])," ",PROGRAMACION[[#This Row],[CODIGO DEL TERRITORIO DE REFERENCIA DE APLICACION DEL PLAN DE ACCION]]) | D53: =IF(ISBLANK(PROGRAMACION[[#This Row],[CODIGO DE LA LINEA DE ACCION POR EJE ESTRATEGICO]])," ",PROGRAMACION[[#This Row],[CODIGO DE LA LINEA DE ACCION POR EJE ESTRATEGICO]]) | E53: =IF(ISBLANK(PROGRAMACION[[#This Row],[CONSECUTIVO DE LA META DE LA LINEA DE ACCION]])," ",PROGRAMACION[[#This Row],[CONSECUTIVO DE LA META DE LA LINEA DE ACCION]]) | F53: =IF(ISBLANK(PROGRAMACION[[#This Row],[CONSECUTIVO DE LA ACTIVIDAD DE LA META]])," ",PROGRAMACION[[#This Row],[CONSECUTIVO DE LA ACTIVIDAD DE LA META]]) | H53: =IF(ISBLANK(PROGRAMACION[[#This Row],[CODIGO DE LA POBLACION OBJETIVO]])," ",PROGRAMACION[[#This Row],[CODIGO DE LA POBLACION OBJETIVO]])
A54: =IF(ISBLANK(PROGRAMACION[[#This Row],[TIPO DE REGISTRO ]])," ",PROGRAMACION[[#This Row],[TIPO DE REGISTRO ]]) | B54: =IF(ISBLANK(PROGRAMACION[[#This Row],[CONSECUTIVO DE REGISTRO]])," ",PROGRAMACION[[#This Row],[CONSECUTIVO DE REGISTRO]]) | C54: =IF(ISBLANK(PROGRAMACION[[#This Row],[CODIGO DEL TERRITORIO DE REFERENCIA DE APLICACION DEL PLAN DE ACCION]])," ",PROGRAMACION[[#This Row],[CODIGO DEL TERRITORIO DE REFERENCIA DE APLICACION DEL PLAN DE ACCION]]) | D54: =IF(ISBLANK(PROGRAMACION[[#This Row],[CODIGO DE LA LINEA DE ACCION POR EJE ESTRATEGICO]])," ",PROGRAMACION[[#This Row],[CODIGO DE LA LINEA DE ACCION POR EJE ESTRATEGICO]]) | E54: =IF(ISBLANK(PROGRAMACION[[#This Row],[CONSECUTIVO DE LA META DE LA LINEA DE ACCION]])," ",PROGRAMACION[[#This Row],[CONSECUTIVO DE LA META DE LA LINEA DE ACCION]]) | F54: =IF(ISBLANK(PROGRAMACION[[#This Row],[CONSECUTIVO DE LA ACTIVIDAD DE LA META]])," ",PROGRAMACION[[#This Row],[CONSECUTIVO DE LA ACTIVIDAD DE LA META]]) | H54: =IF(ISBLANK(PROGRAMACION[[#This Row],[CODIGO DE LA POBLACION OBJETIVO]])," ",PROGRAMACION[[#This Row],[CODIGO DE LA POBLACION OBJETIVO]])
A55: =IF(ISBLANK(PROGRAMACION[[#This Row],[TIPO DE REGISTRO ]])," ",PROGRAMACION[[#This Row],[TIPO DE REGISTRO ]]) | B55: =IF(ISBLANK(PROGRAMACION[[#This Row],[CONSECUTIVO DE REGISTRO]])," ",PROGRAMACION[[#This Row],[CONSECUTIVO DE REGISTRO]]) | C55: =IF(ISBLANK(PROGRAMACION[[#This Row],[CODIGO DEL TERRITORIO DE REFERENCIA DE APLICACION DEL PLAN DE ACCION]])," ",PROGRAMACION[[#This Row],[CODIGO DEL TERRITORIO DE REFERENCIA DE APLICACION DEL PLAN DE ACCION]]) | D55: =IF(ISBLANK(PROGRAMACION[[#This Row],[CODIGO DE LA LINEA DE ACCION POR EJE ESTRATEGICO]])," ",PROGRAMACION[[#This Row],[CODIGO DE LA LINEA DE ACCION POR EJE ESTRATEGICO]]) | E55: =IF(ISBLANK(PROGRAMACION[[#This Row],[CONSECUTIVO DE LA META DE LA LINEA DE ACCION]])," ",PROGRAMACION[[#This Row],[CONSECUTIVO DE LA META DE LA LINEA DE ACCION]]) | F55: =IF(ISBLANK(PROGRAMACION[[#This Row],[CONSECUTIVO DE LA ACTIVIDAD DE LA META]])," ",PROGRAMACION[[#This Row],[CONSECUTIVO DE LA ACTIVIDAD DE LA META]]) | H55: =IF(ISBLANK(PROGRAMACION[[#This Row],[CODIGO DE LA POBLACION OBJETIVO]])," ",PROGRAMACION[[#This Row],[CODIGO DE LA POBLACION OBJETIVO]])
A56: =IF(ISBLANK(PROGRAMACION[[#This Row],[TIPO DE REGISTRO ]])," ",PROGRAMACION[[#This Row],[TIPO DE REGISTRO ]]) | B56: =IF(ISBLANK(PROGRAMACION[[#This Row],[CONSECUTIVO DE REGISTRO]])," ",PROGRAMACION[[#This Row],[CONSECUTIVO DE REGISTRO]]) | C56: =IF(ISBLANK(PROGRAMACION[[#This Row],[CODIGO DEL TERRITORIO DE REFERENCIA DE APLICACION DEL PLAN DE ACCION]])," ",PROGRAMACION[[#This Row],[CODIGO DEL TERRITORIO DE REFERENCIA DE APLICACION DEL PLAN DE ACCION]]) | D56: =IF(ISBLANK(PROGRAMACION[[#This Row],[CODIGO DE LA LINEA DE ACCION POR EJE ESTRATEGICO]])," ",PROGRAMACION[[#This Row],[CODIGO DE LA LINEA DE ACCION POR EJE ESTRATEGICO]]) | E56: =IF(ISBLANK(PROGRAMACION[[#This Row],[CONSECUTIVO DE LA META DE LA LINEA DE ACCION]])," ",PROGRAMACION[[#This Row],[CONSECUTIVO DE LA META DE LA LINEA DE ACCION]]) | F56: =IF(ISBLANK(PROGRAMACION[[#This Row],[CONSECUTIVO DE LA ACTIVIDAD DE LA META]])," ",PROGRAMACION[[#This Row],[CONSECUTIVO DE LA ACTIVIDAD DE LA META]]) | H56: =IF(ISBLANK(PROGRAMACION[[#This Row],[CODIGO DE LA POBLACION OBJETIVO]])," ",PROGRAMACION[[#This Row],[CODIGO DE LA POBLACION OBJETIVO]])
A57: =IF(ISBLANK(PROGRAMACION[[#This Row],[TIPO DE REGISTRO ]])," ",PROGRAMACION[[#This Row],[TIPO DE REGISTRO ]]) | B57: =IF(ISBLANK(PROGRAMACION[[#This Row],[CONSECUTIVO DE REGISTRO]])," ",PROGRAMACION[[#This Row],[CONSECUTIVO DE REGISTRO]]) | C57: =IF(ISBLANK(PROGRAMACION[[#This Row],[CODIGO DEL TERRITORIO DE REFERENCIA DE APLICACION DEL PLAN DE ACCION]])," ",PROGRAMACION[[#This Row],[CODIGO DEL TERRITORIO DE REFERENCIA DE APLICACION DEL PLAN DE ACCION]]) | D57: =IF(ISBLANK(PROGRAMACION[[#This Row],[CODIGO DE LA LINEA DE ACCION POR EJE ESTRATEGICO]])," ",PROGRAMACION[[#This Row],[CODIGO DE LA LINEA DE ACCION POR EJE ESTRATEGICO]]) | E57: =IF(ISBLANK(PROGRAMACION[[#This Row],[CONSECUTIVO DE LA META DE LA LINEA DE ACCION]])," ",PROGRAMACION[[#This Row],[CONSECUTIVO DE LA META DE LA LINEA DE ACCION]]) | F57: =IF(ISBLANK(PROGRAMACION[[#This Row],[CONSECUTIVO DE LA ACTIVIDAD DE LA META]])," ",PROGRAMACION[[#This Row],[CONSECUTIVO DE LA ACTIVIDAD DE LA META]]) | H57: =IF(ISBLANK(PROGRAMACION[[#This Row],[CODIGO DE LA POBLACION OBJETIVO]])," ",PROGRAMACION[[#This Row],[CODIGO DE LA POBLACION OBJETIVO]])
A58: =IF(ISBLANK(PROGRAMACION[[#This Row],[TIPO DE REGISTRO ]])," ",PROGRAMACION[[#This Row],[TIPO DE REGISTRO ]]) | B58: =IF(ISBLANK(PROGRAMACION[[#This Row],[CONSECUTIVO DE REGISTRO]])," ",PROGRAMACION[[#This Row],[CONSECUTIVO DE REGISTRO]]) | C58: =IF(ISBLANK(PROGRAMACION[[#This Row],[CODIGO DEL TERRITORIO DE REFERENCIA DE APLICACION DEL PLAN DE ACCION]])," ",PROGRAMACION[[#This Row],[CODIGO DEL TERRITORIO DE REFERENCIA DE APLICACION DEL PLAN DE ACCION]]) | D58: =IF(ISBLANK(PROGRAMACION[[#This Row],[CODIGO DE LA LINEA DE ACCION POR EJE ESTRATEGICO]])," ",PROGRAMACION[[#This Row],[CODIGO DE LA LINEA DE ACCION POR EJE ESTRATEGICO]]) | E58: =IF(ISBLANK(PROGRAMACION[[#This Row],[CONSECUTIVO DE LA META DE LA LINEA DE ACCION]])," ",PROGRAMACION[[#This Row],[CONSECUTIVO DE LA META DE LA LINEA DE ACCION]]) | F58: =IF(ISBLANK(PROGRAMACION[[#This Row],[CONSECUTIVO DE LA ACTIVIDAD DE LA META]])," ",PROGRAMACION[[#This Row],[CONSECUTIVO DE LA ACTIVIDAD DE LA META]]) | H58: =IF(ISBLANK(PROGRAMACION[[#This Row],[CODIGO DE LA POBLACION OBJETIVO]])," ",PROGRAMACION[[#This Row],[CODIGO DE LA POBLACION OBJETIVO]])
A59: =IF(ISBLANK(PROGRAMACION[[#This Row],[TIPO DE REGISTRO ]])," ",PROGRAMACION[[#This Row],[TIPO DE REGISTRO ]]) | B59: =IF(ISBLANK(PROGRAMACION[[#This Row],[CONSECUTIVO DE REGISTRO]])," ",PROGRAMACION[[#This Row],[CONSECUTIVO DE REGISTRO]]) | C59: =IF(ISBLANK(PROGRAMACION[[#This Row],[CODIGO DEL TERRITORIO DE REFERENCIA DE APLICACION DEL PLAN DE ACCION]])," ",PROGRAMACION[[#This Row],[CODIGO DEL TERRITORIO DE REFERENCIA DE APLICACION DEL PLAN DE ACCION]]) | D59: =IF(ISBLANK(PROGRAMACION[[#This Row],[CODIGO DE LA LINEA DE ACCION POR EJE ESTRATEGICO]])," ",PROGRAMACION[[#This Row],[CODIGO DE LA LINEA DE ACCION POR EJE ESTRATEGICO]]) | E59: =IF(ISBLANK(PROGRAMACION[[#This Row],[CONSECUTIVO DE LA META DE LA LINEA DE ACCION]])," ",PROGRAMACION[[#This Row],[CONSECUTIVO DE LA META DE LA LINEA DE ACCION]]) | F59: =IF(ISBLANK(PROGRAMACION[[#This Row],[CONSECUTIVO DE LA ACTIVIDAD DE LA META]])," ",PROGRAMACION[[#This Row],[CONSECUTIVO DE LA ACTIVIDAD DE LA META]]) | H59: =IF(ISBLANK(PROGRAMACION[[#This Row],[CODIGO DE LA POBLACION OBJETIVO]])," ",PROGRAMACION[[#This Row],[CODIGO DE LA POBLACION OBJETIVO]])
A60: =IF(ISBLANK(PROGRAMACION[[#This Row],[TIPO DE REGISTRO ]])," ",PROGRAMACION[[#This Row],[TIPO DE REGISTRO ]]) | B60: =IF(ISBLANK(PROGRAMACION[[#This Row],[CONSECUTIVO DE REGISTRO]])," ",PROGRAMACION[[#This Row],[CONSECUTIVO DE REGISTRO]]) | C60: =IF(ISBLANK(PROGRAMACION[[#This Row],[CODIGO DEL TERRITORIO DE REFERENCIA DE APLICACION DEL PLAN DE ACCION]])," ",PROGRAMACION[[#This Row],[CODIGO DEL TERRITORIO DE REFERENCIA DE APLICACION DEL PLAN DE ACCION]]) | D60: =IF(ISBLANK(PROGRAMACION[[#This Row],[CODIGO DE LA LINEA DE ACCION POR EJE ESTRATEGICO]])," ",PROGRAMACION[[#This Row],[CODIGO DE LA LINEA DE ACCION POR EJE ESTRATEGICO]]) | E60: =IF(ISBLANK(PROGRAMACION[[#This Row],[CONSECUTIVO DE LA META DE LA LINEA DE ACCION]])," ",PROGRAMACION[[#This Row],[CONSECUTIVO DE LA META DE LA LINEA DE ACCION]]) | F60: =IF(ISBLANK(PROGRAMACION[[#This Row],[CONSECUTIVO DE LA ACTIVIDAD DE LA META]])," ",PROGRAMACION[[#This Row],[CONSECUTIVO DE LA ACTIVIDAD DE LA META]]) | H60: =IF(ISBLANK(PROGRAMACION[[#This Row],[CODIGO DE LA POBLACION OBJETIVO]])," ",PROGRAMACION[[#This Row],[CODIGO DE LA POBLACION OBJETIVO]])
A61: =IF(ISBLANK(PROGRAMACION[[#This Row],[TIPO DE REGISTRO ]])," ",PROGRAMACION[[#This Row],[TIPO DE REGISTRO ]]) | B61: =IF(ISBLANK(PROGRAMACION[[#This Row],[CONSECUTIVO DE REGISTRO]])," ",PROGRAMACION[[#This Row],[CONSECUTIVO DE REGISTRO]]) | C61: =IF(ISBLANK(PROGRAMACION[[#This Row],[CODIGO DEL TERRITORIO DE REFERENCIA DE APLICACION DEL PLAN DE ACCION]])," ",PROGRAMACION[[#This Row],[CODIGO DEL TERRITORIO DE REFERENCIA DE APLICACION DEL PLAN DE ACCION]]) | D61: =IF(ISBLANK(PROGRAMACION[[#This Row],[CODIGO DE LA LINEA DE ACCION POR EJE ESTRATEGICO]])," ",PROGRAMACION[[#This Row],[CODIGO DE LA LINEA DE ACCION POR EJE ESTRATEGICO]]) | E61: =IF(ISBLANK(PROGRAMACION[[#This Row],[CONSECUTIVO DE LA META DE LA LINEA DE ACCION]])," ",PROGRAMACION[[#This Row],[CONSECUTIVO DE LA META DE LA LINEA DE ACCION]]) | F61: =IF(ISBLANK(PROGRAMACION[[#This Row],[CONSECUTIVO DE LA ACTIVIDAD DE LA META]])," ",PROGRAMACION[[#This Row],[CONSECUTIVO DE LA ACTIVIDAD DE LA META]]) | H61: =IF(ISBLANK(PROGRAMACION[[#This Row],[CODIGO DE LA POBLACION OBJETIVO]])," ",PROGRAMACION[[#This Row],[CODIGO DE LA POBLACION OBJETIVO]])
...

Sheet DIVIPOLA
A1: 05 | B1: ANTIOQUIA
A2: 08 | B2: ATLÁNTICO
A3: 13 | B3: BOLÍVAR
A4: 15 | B4: BOYACÁ
A5: 17 | B5: CALDAS
A6: 18 | B6: CAQUETÁ
A7: 19 | B7: CAUCA
A8: 20 | B8: CESAR
A9: 23 | B9: CÓRDOBA
A10: 25 | B10: CUNDINAMARCA
A11: 27 | B11: CHOCÓ
A12: 41 | B12: HUILA
A13: 44 | B13: LA GUAJIRA
A14: 47 | B14: MAGDALENA
A15: 50 | B15: META
A16: 52 | B16: NARIÑO
... A33: 5001 | B33: MEDELLÍN
A34: 5002 | B34: ABEJORRAL
A35: 5004 | B35: ABRIAQUÍ
A36: 5021 | B36: ALEJANDRÍA
A37: 5030 | B37: AMAGÁ
A38: 5031 | B38: AMALFI
A39: 5034 | B39: ANDES
A40: 5036 | B40: ANGELÓPOLIS
A41: 5038 | B41: ANGOSTURA
A42: 5040 | B42: ANORÍ
A43: 5042 | B43: SANTA FÉ DE ANTIOQUIA
A44: 5044 | B44: ANZÁ
A45: 5045 | B45: APARTADÓ
A46: 5051 | B46: ARBOLETES
A47: 5055 | B47: ARGELIA
A48: 5059 | B48: ARMENIA
A49: 5079 | B49: BARBOSA
A50: 5086 | B50: BELMIRA
A51: 5088 | B51: BELLO
A52: 5091 | B52: BETANIA
A53: 5093 | B53: BETULIA
A54: 5101 | B54: CIUDAD BOLÍVAR
A55: 5107 | B55: BRICEÑO
... A1153: 99773 | B1153: CUMARIBO

Sheet TREF EJE_LINEA
A1: E1La | B1: DESTINAR Y GESTIONAR LOS RECURSOS FINANCIEROS NECESARIOS EN LOS PRESUPUESTOS EN EL NIVEL NACIONAL Y TERRITORIAL ORIENTADOS A FORTALECER LAS ESTRUCTURAS ADMINISTRATIVAS Y EL RECURSO HUMANO DEDICADO AL FOMENTO Y GESTION DE LOS PROCESOS DE PARTICIPACION Y EN EL DESARROLLO DE LA POLITICA DE PARTICIPACION SOCIAL EN SALUD
A2: E1Lb | B2: DEFINIR LOS PROGRAMAS DE FORMACION Y CAPACITACION AL PERSONAL DEL SECTOR SALUD PARA LA GENERACION DE CAPACIDADES PARA EL DERECHO A LA PARTICIPACION SOCIAL, ASI COMO, HERRAMIENTAS PEDAGOGICAS, DIDACTICAS Y TECNOLOGICAS QUE PERMITAN LA INTERVENCION DE LA COMUNIDAD EN EL SECTOR
A3: E1Lc | B3: DESARROLLAR UNA ESTRATEGIA SISTEMATICA DE ASISTENCIA TECNICA A LAS ENTIDADES TERRITORIALES PARA LA IMPLEMENTACION DE LA POLITICA DE PARTICIPACION SOCIAL EN SALUD
A4: E1Ld | B4: ESTABLECER MECANISMOS DE COFINANCIACION DE PROYECTOS DE INVERSION EN LOS DIFERENTES NIVELES DE GOBIERNO DESTINADOS A LA PROMOCION Y GESTION DE LA PARTICIPACION SOCIAL EN SALUD
A5: E1Le | B5: REALIZAR GESTIONES INTERINSTITUCIONALES PARA LA FORMACION DE LA COMUNIDAD EN PLANEACION, PRESUPUESTACION Y CONTROL SOCIAL EN SALUD
A6: E1Lf | B6: DEFINIR LOS LINEAMIENTOS PARA LAS ENTIDADES TERRITORIALES Y ENTIDADES DEL SECTOR SALUD QUE PROPENDAN POR GARANTIZAR LA PARTICIPACION EN LA DECISION EN LA GESTION DEL SECTOR SALUD EN EL MARCO DEL CUMPLIMIENTO DE LOS OBJETIVOS DE LA POLITICA DE PARTICIPACION SOCIAL EN SALUD
A7: E1Lg | B7: TRANSVERSALIZAR LOS PROCESOS Y DINAMICAS DE PARTICIPACION SOCIAL EN EL CICLO DE LAS POLITICAS PUBLICAS DEL SECTOR SALUD A NIVEL TERRITORIAL
A8: E1Lh | B8: INCORPORAR EL ENFOQUE DIFERENCIAL EN EL DESARROLLO DE LOS ESPACIOS DE PARTICIPACION EN SALUD EN LA DEFINICION E IMPLEMENTACION DE LOS PROGRAMAS DEL SECTOR SALUD
A9: E1Li | B9: REALIZAR LOS AJUSTES NORMATIVOS QUE PERMITAN LA PARTICIPACION EN LA GESTION DEL SECTOR SALUD EN LOS DIFERENTES NIVELES TERRITORIALES E INSTITUCIONALES PARA EL CUMPLIMIENTO DE LOS OBJETIVOS DE LA POLITICA DE PARTICIPACION EN EL MARCO DE LA LEY ESTATUTARIA DE SALUD
A10: E2La | B10: CREAR UNA ESTRATEGIA PEDAGOGICA PERMANENTE EN SALUD PARA CUALIFICAR A LOS CIUDADANOS EN LOS PROCESOS DE PARTICIPACION, EN LOS TEMAS DE INTERES EN SALUD Y EN EL DERECHO A LA SALUD
A11: E2Lb | B11: ESTABLECER LOS INCENTIVOS QUE PROPICIEN LA PARTICIPACION SOCIAL Y COMUNITARIA
A12: E2Lc | B12: IMPULSAR Y PROMOCIONAR LAS INICIATIVAS DEL USO Y APROPIACION DE LAS TECNOLOGIAS DE INFORMACION Y LAS COMUNICACIONES EN LAS ORGANIZACIONES SOCIALES EN SALUD
... A33: E5Ld | B33: FORTALECER LOS ESCENARIOS PARA LA PARTICIPACION EN LA DECISION

Sheet TREF POBLACION
A1: 01 | B1: TRABAJADORES SECTOR SALUD
A2: 02 | B2: TRABAJADORES ASISTENCIALES DE LA SALUD
A3: 03 | B3: COPACO
A4: 04 | B4: ASOCIACION DE USUARIOS
A5: 05 | B5: CTSSS
A6: 06 | B6: VEEDURIA
A7: 07 | B7: COMITES DE ETICA
A8: 08 | B8: COMITES DE VIGILANCIA
A9: 09 | B9: ORGANIZACIONES SOCIALES AUTONOMAS
A10: 10 | B10: RED COMUNITARIA
A11: 11 | B11: RED DE ACCIONES EN SALUD PUBLICA
A12: 12 | B12: CIUDADANIA PARTICIPANTE EN EL PIC
A13: 13 | B13: POBLACION CON DISCAPACIDAD
A14: 14 | B14: ADULTO MAYOR
A15: 15 | B15: NIÑOS/AS Y ADOLESCENTES
A16: 16 | B16: GRUPOS ETNICOS INDIGENAS
A17: 17 | B17: GRUPOS ETNICOS AFROCOLOMBIANOS
A18: 18 | B18: GRUPOS ETNICOS PALENQUEROS
A19: 19 | B19: GRUPOS ETNICOS RAIZALES
A20: 20 | B20: GRIPOS ETNICOS ROM
A21: 21 | B21: POBLACION LGBTIQ
... A26: 26 | B26: NO APLICA

Sheet TREF RECURSOS
A1: 01 | B1: RECURSOS PROPIOS DE LA ENTIDAD
A2: 02 | B2: SISTEMA GENERAL DE PARTICIPACIONES
A3: 03 | B3: PIC - GESTION SALUD PUBLICA
A4: 04 | B4: RENTAS CEDIDAS
A5: 05 | B5: TRANSFERENCIAS
A6: 06 | B6: COOPERACION INTERNACIONAL
A7: 07 | B7: CONVENIOS INTERADMINISTRATIVOS
A8: 08 | B8: DONACIONES
A9: 09 | B9: ENTIDAD PRIVADA
A10: 10 | B10: NO APLICA
